BEGIN:VCALENDAR
VERSION:2.0
PRODID:-//hacksw/handcal//NONSGML v1.0//EN
BEGIN:VEVENT
SUMMARY:Galette des rois
UID:42c94876-bbf2-4030-9b18-4feb3f17eb53
DTSTART:20260131T123000Z
DTEND:20260131T200000Z
LOCATION:Localisation   
CATEGORIES:Festif
STATUS:
URL;VALUE=URI:https://www.erbree-basket.com/evenements/2026/01/31/galette-des-rois-2403673
END:VEVENT
END:VCALENDAR
